BEGIN:VCALENDAR
VERSION:2.0
PRODID:-//UNESCO Body &amp; Mind Wellness Club - ECPv6.13.2.1//NONSGML v1.0//EN
CALSCALE:GREGORIAN
METHOD:PUBLISH
X-ORIGINAL-URL:https://unescobmw.org
X-WR-CALDESC:Events for UNESCO Body &amp; Mind Wellness Club
REFRESH-INTERVAL;VALUE=DURATION:PT1H
X-Robots-Tag:noindex
X-PUBLISHED-TTL:PT1H
BEGIN:VTIMEZONE
TZID:UTC
BEGIN:STANDARD
TZOFFSETFROM:+0000
TZOFFSETTO:+0000
TZNAME:UTC
DTSTART:20210101T000000
END:STANDARD
END:VTIMEZONE
BEGIN:VEVENT
DTSTART;VALUE=DATE:20210725
DTEND;VALUE=DATE:20210727
DTSTAMP:20260423T134859
CREATED:20211021T215422Z
LAST-MODIFIED:20211118T190703Z
UID:575-1627171200-1627343999@unescobmw.org
SUMMARY:Ecosystem
DESCRIPTION:Professor Carlos Mestanza Ramon of EquadorEnvironmental Engineer & Ecological Constructions: Environmental Technologies \n\n\n\n\n\n\n\n\n\nMrs. Sudha Bharti KhetarpalThe Sitar Player \n\n\n\n\n\n\n\n\n\n\n\n\n\nHudeby KundaliniA song dedicated to the sacred Mother Kundalini by Italian Young Meditators:) \n\n\n\n \n\n\n\n\n\n\n\n\n\n\n\nShri Bhumi Devi Vandana by OneTreeA Musical dedicated to Mother Earth!
URL:https://unescobmw.org/event/ecosystem/
CATEGORIES:Ecosystem Events
ATTACH;FMTTYPE=image/jpeg:https://unescobmw.org/wp-content/uploads/2021/10/Sona-Agarwal-1536x922-1.jpeg
END:VEVENT
END:VCALENDAR